BEGIN:VCALENDAR
VERSION:2.0
PRODID:icalendar-ruby
CALSCALE:GREGORIAN
METHOD:PUBLISH
BEGIN:VEVENT
DTSTAMP:20260419T161410Z
UID:4fd17d93-6f67-4a08-ba43-ce6b9e8767d8
DTSTART:20260829T100000
DTEND:20260829T180000
DESCRIPTION:
LOCATION:Großsporthalle Fehmarn
SUMMARY:Fehmarn Turnier
END:VEVENT
END:VCALENDAR
